BEGIN:VCALENDAR
VERSION:2.0
PRODID:-//eventon.com NONSGML v1.0//EN
CALSCALE:GREGORIAN
METHOD:PUBLISH
BEGIN:VEVENT
UID:69ecf639da534
DTSTAMP:20260425T171329Z
DTSTART:20250130T060000Z
DTEND:20250130T100000Z
LOCATION:POLISH CLUB BANKSTOWN 11 East Terrace\,  Bankstown NSW 2200
SUMMARY:PING PONG THURSDAY'S
DESCRIPTION:Join some friends\,  play some table tennis and grab some beers
 !\nhttps://polishclub.com.au/events/table-tennis-thursdays/var/ri-61.l-L1
URL:https://polishclub.com.au/events/table-tennis-thursdays/var/ri-61.l-L1
END:VEVENT
END:VCALENDAR