BEGIN:VCALENDAR
VERSION:2.0
PRODID:-//eventon.com NONSGML v1.0//EN
CALSCALE:GREGORIAN
METHOD:PUBLISH
BEGIN:VEVENT
UID:69e5cd93688c4
DTSTAMP:20260420T065411Z
DTSTART:20201231T090000Z
DTEND:20201231T125000Z
LOCATION:POLISH CLUB BANKSTOWN 11 East Terrace\,  Bankstown NSW 2200
SUMMARY:New Years Eve @ Klub Polski
DESCRIPTION:Noc Sylwestrowa Mnóstwo Atrakcji i Świetny Zespół Zimne zak
 ąski i Gorąca KolacjaKawa i CiastoLampka szampana o północy Rezerwacja 
 (02) 9708 2433\nhttps://polishclub.com.au/events/new-years-eve-klub-polski/
URL:https://polishclub.com.au/events/new-years-eve-klub-polski/
END:VEVENT
END:VCALENDAR