BEGIN:VCALENDAR
VERSION:2.0
PRODID:-//eventon.com NONSGML v1.0//EN
CALSCALE:GREGORIAN
METHOD:PUBLISH
BEGIN:VEVENT
UID:69e60bf436221
DTSTAMP:20260420T112020Z
DTSTART:20230121T080000Z
DTEND:20230121T125000Z
LOCATION:POLISH CLUB BANKSTOWN 11 East Terrace\,  Bankstown NSW 2200
SUMMARY:Brazilian Carnival
DESCRIPTION:\nhttps://polishclub.com.au/events/brazilian-carnival/
URL:https://polishclub.com.au/events/brazilian-carnival/
END:VEVENT
END:VCALENDAR