BEGIN:VCALENDAR
VERSION:2.0
PRODID:-//eventon.com NONSGML v1.0//EN
CALSCALE:GREGORIAN
METHOD:PUBLISH
BEGIN:VEVENT
UID:69ec2c4ddeb0f
DTSTAMP:20260425T025157Z
DTSTART:20240531T100000Z
DTEND:20240531T150000Z
LOCATION:POLISH CLUB BANKSTOWN 11 East Terrace\,  Bankstown NSW 2200
SUMMARY:ABBA TRIBUTE PARTY
DESCRIPTION:\nhttps://polishclub.com.au/events/abba-tribute-party/
URL:https://polishclub.com.au/events/abba-tribute-party/
END:VEVENT
END:VCALENDAR