BEGIN:VCALENDAR
VERSION:2.0
PRODID:-//eventon.com NONSGML v1.0//EN
CALSCALE:GREGORIAN
METHOD:PUBLISH
BEGIN:VEVENT
UID:69ea9617b6951
DTSTAMP:20260423T215847Z
DTSTART:20241231T080000Z
DTEND:20241231T150000Z
LOCATION:POLISH CLUB BANKSTOWN 11 East Terrace\,  Bankstown NSW 2200
SUMMARY:NYE 2025 @ The Polish Club
DESCRIPTION:\nhttps://polishclub.com.au/events/nye-2025-the-polish-club/
URL:https://polishclub.com.au/events/nye-2025-the-polish-club/
END:VEVENT
END:VCALENDAR